BEGIN:VCALENDAR
VERSION:2.0
PRODID:-//Musicisti Reggiani - ECPv6.8.3//NONSGML v1.0//EN
CALSCALE:GREGORIAN
METHOD:PUBLISH
X-ORIGINAL-URL:https://www.musicistireggiani.it
X-WR-CALDESC:Eventi per Musicisti Reggiani
REFRESH-INTERVAL;VALUE=DURATION:PT1H
X-Robots-Tag:noindex
X-PUBLISHED-TTL:PT1H
BEGIN:VTIMEZONE
TZID:UTC
BEGIN:STANDARD
TZOFFSETFROM:+0000
TZOFFSETTO:+0000
TZNAME:UTC
DTSTART:20170101T000000
END:STANDARD
TZID:UTC
BEGIN:STANDARD
TZOFFSETFROM:+0000
TZOFFSETTO:+0000
TZNAME:UTC
DTSTART:20170101T000000
END:STANDARD
END:VTIMEZONE
BEGIN:VEVENT
DTSTART;VALUE=DATE:20180509
DTEND;VALUE=DATE:20181016
DTSTAMP:20260419T143441
CREATED:20170805T092907Z
LAST-MODIFIED:20170805T092907Z
UID:453-1525824000-1539647999@www.musicistireggiani.it
SUMMARY:The Art of Music
DESCRIPTION:Praesent sagittis ultrices laoreet. Sed sem leo\, congue vitae pellentesque id\, sollicitudin quis nisi. Cras viverra\, quam id accumsan iaculis\, nisi dui imperdiet odio\, nec finibus nunc nisl eget massa. In quis urna augue. Curabitur maximus lorem eget scelerisque dictum. Orci varius natoque penatibus et magnis dis parturient montes\, nascetur ridiculus mus.
URL:https://www.musicistireggiani.it/event/the-art-of-music/
LOCATION:Los Angeles\, Los Angeles\, CA\, United States
CATEGORIES:tour
ATTACH;FMTTYPE=image/jpeg:https://www.musicistireggiani.it/wp-content/uploads/2017/08/pexels-photo-167466.jpeg
ORGANIZER;CN="Templaza":MAILTO:infor@templaza.com
END:VEVENT
BEGIN:VEVENT
DTSTART;VALUE=DATE:20180407
DTEND;VALUE=DATE:20181014
DTSTAMP:20260419T143441
CREATED:20170805T092545Z
LAST-MODIFIED:20170805T092545Z
UID:451-1523059200-1539475199@www.musicistireggiani.it
SUMMARY:Live Music Unsigned
DESCRIPTION:Praesent sagittis ultrices laoreet. Sed sem leo\, congue vitae pellentesque id\, sollicitudin quis nisi. Cras viverra\, quam id accumsan iaculis\, nisi dui imperdiet odio\, nec finibus nunc nisl eget massa. In quis urna augue. Curabitur maximus lorem eget scelerisque dictum. Orci varius natoque penatibus et magnis dis parturient montes\, nascetur ridiculus mus.
URL:https://www.musicistireggiani.it/event/live-music-unsigned/
LOCATION:Los Angeles\, Los Angeles\, CA\, United States
CATEGORIES:tour
ATTACH;FMTTYPE=image/jpeg:https://www.musicistireggiani.it/wp-content/uploads/2017/08/pexels-photo-154147.jpeg
ORGANIZER;CN="Templaza":MAILTO:infor@templaza.com
END:VEVENT
BEGIN:VEVENT
DTSTART;VALUE=DATE:20180106
DTEND;VALUE=DATE:20181013
DTSTAMP:20260419T143441
CREATED:20170805T092128Z
LAST-MODIFIED:20170805T092128Z
UID:444-1515196800-1539388799@www.musicistireggiani.it
SUMMARY:The best summer
DESCRIPTION:Praesent sagittis ultrices laoreet. Sed sem leo\, congue vitae pellentesque id\, sollicitudin quis nisi. Cras viverra\, quam id accumsan iaculis\, nisi dui imperdiet odio\, nec finibus nunc nisl eget massa. In quis urna augue. Curabitur maximus lorem eget scelerisque dictum. Orci varius natoque penatibus et magnis dis parturient montes\, nascetur ridiculus mus.
URL:https://www.musicistireggiani.it/event/the-best-summer/
LOCATION:Los Angeles\, Los Angeles\, CA\, United States
CATEGORIES:tour
ATTACH;FMTTYPE=image/jpeg:https://www.musicistireggiani.it/wp-content/uploads/2017/08/nainoa-shizuru-80385.jpg
ORGANIZER;CN="Templaza":MAILTO:infor@templaza.com
END:VEVENT
BEGIN:VEVENT
DTSTART;TZID=UTC:20170810T000000
DTEND;TZID=UTC:20170810T220000
DTSTAMP:20260419T143441
CREATED:20170805T075958Z
LAST-MODIFIED:20170805T075958Z
UID:435-1502323200-1502402400@www.musicistireggiani.it
SUMMARY:Camping World Stadium
DESCRIPTION:Praesent sagittis ultrices laoreet. Sed sem leo\, congue vitae pellentesque id\, sollicitudin quis nisi. Cras viverra\, quam id accumsan iaculis\, nisi dui imperdiet odio\, nec finibus nunc nisl eget massa. In quis urna augue. Curabitur maximus lorem eget scelerisque dictum. Orci varius natoque penatibus et magnis dis parturient montes\, nascetur ridiculus mus.
URL:https://www.musicistireggiani.it/event/camping-world-stadium/
LOCATION:Los Angeles\, Los Angeles\, CA\, United States
CATEGORIES:tour
ATTACH;FMTTYPE=image/jpeg:https://www.musicistireggiani.it/wp-content/uploads/2017/08/pexels-photo-167491.jpeg
ORGANIZER;CN="Templaza":MAILTO:infor@templaza.com
END:VEVENT
BEGIN:VEVENT
DTSTART;TZID=UTC:20170809T180000
DTEND;TZID=UTC:20170809T223000
DTSTAMP:20260419T143441
CREATED:20170805T095354Z
LAST-MODIFIED:20170805T095354Z
UID:457-1502301600-1502317800@www.musicistireggiani.it
SUMMARY:Isle of Wight Festival
DESCRIPTION:Praesent sagittis ultrices laoreet. Sed sem leo\, congue vitae pellentesque id\, sollicitudin quis nisi. Cras viverra\, quam id accumsan iaculis\, nisi dui imperdiet odio\, nec finibus nunc nisl eget massa. In quis urna augue. Curabitur maximus lorem eget scelerisque dictum. Orci varius natoque penatibus et magnis dis parturient montes\, nascetur ridiculus mus.
URL:https://www.musicistireggiani.it/event/isle-of-wight-festival/
LOCATION:Los Angeles\, Los Angeles\, CA\, United States
CATEGORIES:tour
ATTACH;FMTTYPE=image/jpeg:https://www.musicistireggiani.it/wp-content/uploads/2017/08/pexels-photo-258732.jpeg
ORGANIZER;CN="Templaza":MAILTO:infor@templaza.com
END:VEVENT
END:VCALENDAR